Package: HiCaptuRe Version: 1.0.0 Command: /home/biocbuild/R/R/bin/R CMD INSTALL HiCaptuRe StartedAt: 2025-11-20 22:44:08 -0000 (Thu, 20 Nov 2025) EndedAt: 2025-11-20 22:45:22 -0000 (Thu, 20 Nov 2025) EllapsedTime: 73.8 seconds RetCode: 0 Status: OK