Package: HiCaptuRe Version: 1.0.0 Command: /home/biocbuild/R/R/bin/R CMD check --install=check:HiCaptuRe.install-out.txt --library=/home/biocbuild/R/R/site-library --no-vignettes --timings HiCaptuRe_1.0.0.tar.gz StartedAt: 2025-11-21 11:42:56 -0000 (Fri, 21 Nov 2025) EndedAt: 2025-11-21 11:51:47 -0000 (Fri, 21 Nov 2025) EllapsedTime: 530.6 seconds RetCode: 0 Status: OK CheckDir: HiCaptuRe.Rcheck Warnings: 0