Package: HiCaptuRe Version: 1.0.0 Command: /Library/Frameworks/R.framework/Resources/bin/R CMD INSTALL HiCaptuRe StartedAt: 2025-11-17 18:18:55 -0500 (Mon, 17 Nov 2025) EndedAt: 2025-11-17 18:19:17 -0500 (Mon, 17 Nov 2025) EllapsedTime: 22.5 seconds RetCode: 0 Status: OK