Package: HiCaptuRe Version: 1.0.0 Command: /Library/Frameworks/R.framework/Resources/bin/R CMD build --keep-empty-dirs --no-resave-data HiCaptuRe StartedAt: 2025-11-21 02:56:20 -0500 (Fri, 21 Nov 2025) EndedAt: 2025-11-21 02:59:18 -0500 (Fri, 21 Nov 2025) EllapsedTime: 177.6 seconds RetCode: 0 Status: OK PackageFile: HiCaptuRe_1.0.0.tar.gz PackageFileSize: 1.906 MiB