Package: HiCaptuRe Version: 1.0.0 Command: rm -rf HiCaptuRe.buildbin-libdir && mkdir HiCaptuRe.buildbin-libdir && /Users/biocbuild/BBS/utils/build-universal.sh HiCaptuRe_1.0.0.tar.gz /Library/Frameworks/R.framework/Resources/bin/R HiCaptuRe.buildbin-libdir StartedAt: 2025-11-18 15:41:41 -0500 (Tue, 18 Nov 2025) EndedAt: 2025-11-18 15:42:11 -0500 (Tue, 18 Nov 2025) EllapsedTime: 29.4 seconds RetCode: 0 Status: OK PackageFile: HiCaptuRe_1.0.0.tgz PackageFileSize: 2.338 MiB