Package: HiCPotts Version: 0.99.6 Command: /home/biocbuild/R/R/bin/R CMD INSTALL HiCPotts StartedAt: 2025-10-20 20:43:13 -0000 (Mon, 20 Oct 2025) EndedAt: 2025-10-20 20:44:35 -0000 (Mon, 20 Oct 2025) EllapsedTime: 81.7 seconds RetCode: 0 Status: OK