Package: HiCPotts Version: 0.99.6 Command: F:\biocbuild\bbs-3.22-bioc\R\bin\R.exe CMD check --no-multiarch --install=check:HiCPotts.install-out.txt --library=F:\biocbuild\bbs-3.22-bioc\R\library --no-vignettes --timings HiCPotts_0.99.6.tar.gz StartedAt: 2025-08-15 04:08:40 -0400 (Fri, 15 Aug 2025) EndedAt: 2025-08-15 04:16:03 -0400 (Fri, 15 Aug 2025) EllapsedTime: 443.7 seconds RetCode: 0 Status: OK CheckDir: HiCPotts.Rcheck Warnings: 0