############################################################################## ############################################################################## ### ### Running command: ### ### chmod a+r HiCPotts -R && F:\biocbuild\bbs-3.22-bioc\R\bin\R.exe CMD build --keep-empty-dirs --no-resave-data HiCPotts ### ############################################################################## ############################################################################## * checking for file 'HiCPotts/DESCRIPTION' ... OK * preparing 'HiCPotts': * checking DESCRIPTION meta-information ... OK * cleaning src * installing the package to build vignettes * creating vignettes ... OK * cleaning src * checking for LF line-endings in source and make files and shell scripts * checking for empty or unneeded directories Omitted 'LazyData' from DESCRIPTION * building 'HiCPotts_0.99.6.tar.gz'