Package: HiCPotts Version: 0.99.6 Command: /home/biocbuild/bbs-3.22-bioc/R/bin/R CMD INSTALL HiCPotts StartedAt: 2025-10-20 15:27:41 -0400 (Mon, 20 Oct 2025) EndedAt: 2025-10-20 15:28:38 -0400 (Mon, 20 Oct 2025) EllapsedTime: 56.9 seconds RetCode: 0 Status: OK