Package: HiCPotts Version: 0.99.6 Command: /Library/Frameworks/R.framework/Resources/bin/R CMD INSTALL HiCPotts StartedAt: 2025-10-20 15:30:42 -0400 (Mon, 20 Oct 2025) EndedAt: 2025-10-20 15:31:50 -0400 (Mon, 20 Oct 2025) EllapsedTime: 67.5 seconds RetCode: 0 Status: OK