Package: HiCPotts Version: 0.99.6 Command: /Library/Frameworks/R.framework/Resources/bin/R CMD check --install=check:HiCPotts.install-out.txt --library=/Library/Frameworks/R.framework/Resources/library --no-vignettes --timings HiCPotts_0.99.6.tar.gz StartedAt: 2025-10-20 23:05:28 -0400 (Mon, 20 Oct 2025) EndedAt: 2025-10-20 23:13:51 -0400 (Mon, 20 Oct 2025) EllapsedTime: 503.3 seconds RetCode: 0 Status: OK CheckDir: HiCPotts.Rcheck Warnings: 0