Package: HiCPotts Version: 0.99.6 Command: /Library/Frameworks/R.framework/Resources/bin/R CMD INSTALL HiCPotts StartedAt: 2025-10-23 15:17:16 -0400 (Thu, 23 Oct 2025) EndedAt: 2025-10-23 15:17:35 -0400 (Thu, 23 Oct 2025) EllapsedTime: 19.2 seconds RetCode: 0 Status: OK