Package: HiCPotts Version: 0.99.6 Command: /Library/Frameworks/R.framework/Resources/bin/R CMD check --install=check:HiCPotts.install-out.txt --library=/Library/Frameworks/R.framework/Resources/library --no-vignettes --timings HiCPotts_0.99.6.tar.gz StartedAt: 2025-10-23 20:17:54 -0400 (Thu, 23 Oct 2025) EndedAt: 2025-10-23 20:20:16 -0400 (Thu, 23 Oct 2025) EllapsedTime: 142.7 seconds RetCode: 0 Status: OK CheckDir: HiCPotts.Rcheck Warnings: 0