Package: HiCPotts Version: 0.99.6 Command: /Library/Frameworks/R.framework/Resources/bin/R CMD build --keep-empty-dirs --no-resave-data HiCPotts StartedAt: 2025-10-23 16:43:50 -0400 (Thu, 23 Oct 2025) EndedAt: 2025-10-23 16:44:16 -0400 (Thu, 23 Oct 2025) EllapsedTime: 26.3 seconds RetCode: 0 Status: OK PackageFile: HiCPotts_0.99.6.tar.gz PackageFileSize: 1.719 MiB