Package: HiCPotts Version: 0.99.6 Maintainer: Itunu. Godwin Osuntoki MaintainerEmail: hitunes4 at gmail.com git_url: https://git.bioconductor.org/packages/HiCPotts git_branch: devel git_last_commit: 76c995c git_last_commit_date: 2025-08-11 12:36:14 -0400 (Mon, 11 Aug 2025)