Package: HiCDOC Version: 1.11.2 Command: /home/biocbuild/R/R/bin/R CMD check --install=check:HiCDOC.install-out.txt --library=/home/biocbuild/R/R/site-library --no-vignettes --timings HiCDOC_1.11.2.tar.gz StartedAt: 2025-10-17 10:03:14 -0000 (Fri, 17 Oct 2025) EndedAt: 2025-10-17 10:12:26 -0000 (Fri, 17 Oct 2025) EllapsedTime: 551.6 seconds RetCode: 0 Status: OK CheckDir: HiCDOC.Rcheck Warnings: 0