Package: HiCDOC Version: 1.11.2 Command: /home/biocbuild/bbs-3.22-bioc/R/bin/R CMD check --install=check:HiCDOC.install-out.txt --library=/home/biocbuild/bbs-3.22-bioc/R/site-library --timings HiCDOC_1.11.2.tar.gz StartedAt: 2025-10-29 00:20:57 -0400 (Wed, 29 Oct 2025) EndedAt: 2025-10-29 00:29:34 -0400 (Wed, 29 Oct 2025) EllapsedTime: 517.6 seconds RetCode: 0 Status: OK CheckDir: HiCDOC.Rcheck Warnings: 0