Package: HiCDCPlus Version: 1.17.0 Command: /Library/Frameworks/R.framework/Resources/bin/R CMD INSTALL HiCDCPlus StartedAt: 2025-10-20 15:48:21 -0400 (Mon, 20 Oct 2025) EndedAt: 2025-10-20 15:49:18 -0400 (Mon, 20 Oct 2025) EllapsedTime: 57.0 seconds RetCode: 0 Status: OK