Package: HiCDCPlus Version: 1.17.0 Command: rm -rf HiCDCPlus.buildbin-libdir && mkdir HiCDCPlus.buildbin-libdir && /Users/biocbuild/BBS/utils/build-universal.sh HiCDCPlus_1.17.0.tar.gz /Library/Frameworks/R.framework/Resources/bin/R HiCDCPlus.buildbin-libdir StartedAt: 2025-10-20 03:13:35 -0400 (Mon, 20 Oct 2025) EndedAt: 2025-10-20 03:14:39 -0400 (Mon, 20 Oct 2025) EllapsedTime: 63.8 seconds RetCode: 0 Status: OK PackageFile: HiCDCPlus_1.17.0.tgz PackageFileSize: 1.417 MiB