Package: HiCDCPlus Version: 1.17.0 Command: /Library/Frameworks/R.framework/Resources/bin/R CMD INSTALL HiCDCPlus StartedAt: 2025-10-19 15:27:53 -0400 (Sun, 19 Oct 2025) EndedAt: 2025-10-19 15:28:10 -0400 (Sun, 19 Oct 2025) EllapsedTime: 17.0 seconds RetCode: 0 Status: OK