Package: HiCDCPlus Version: 1.17.0 Command: /Library/Frameworks/R.framework/Resources/bin/R CMD check --install=check:HiCDCPlus.install-out.txt --library=/Library/Frameworks/R.framework/Resources/library --no-vignettes --timings HiCDCPlus_1.17.0.tar.gz StartedAt: 2025-10-19 20:07:28 -0400 (Sun, 19 Oct 2025) EndedAt: 2025-10-19 20:09:42 -0400 (Sun, 19 Oct 2025) EllapsedTime: 133.6 seconds RetCode: 0 Status: OK CheckDir: HiCDCPlus.Rcheck Warnings: 0