Package: HiCDCPlus Version: 1.17.0 Command: rm -rf HiCDCPlus.buildbin-libdir && mkdir HiCDCPlus.buildbin-libdir && /Users/biocbuild/BBS/utils/build-universal.sh HiCDCPlus_1.17.0.tar.gz /Library/Frameworks/R.framework/Resources/bin/R HiCDCPlus.buildbin-libdir StartedAt: 2025-10-19 23:02:34 -0400 (Sun, 19 Oct 2025) EndedAt: 2025-10-19 23:02:53 -0400 (Sun, 19 Oct 2025) EllapsedTime: 18.4 seconds RetCode: 0 Status: OK PackageFile: HiCDCPlus_1.17.0.tgz PackageFileSize: 1.418 MiB