Package: HiCBricks Version: 1.28.0 Command: /Library/Frameworks/R.framework/Resources/bin/R CMD check --install=check:HiCBricks.install-out.txt --library=/Library/Frameworks/R.framework/Resources/library --no-vignettes --timings HiCBricks_1.28.0.tar.gz StartedAt: 2025-11-03 21:48:08 -0500 (Mon, 03 Nov 2025) EndedAt: 2025-11-03 21:51:11 -0500 (Mon, 03 Nov 2025) EllapsedTime: 183.1 seconds RetCode: 0 Status: OK CheckDir: HiCBricks.Rcheck Warnings: 0