Package: HiCBricks Version: 1.27.1 Command: /Library/Frameworks/R.framework/Resources/bin/R CMD INSTALL HiCBricks StartedAt: 2025-10-02 15:11:02 -0400 (Thu, 02 Oct 2025) EndedAt: 2025-10-02 15:11:09 -0400 (Thu, 02 Oct 2025) EllapsedTime: 6.5 seconds RetCode: 0 Status: OK