Package: HiCBricks Version: 1.27.1 Command: rm -rf HiCBricks.buildbin-libdir && mkdir HiCBricks.buildbin-libdir && /Users/biocbuild/BBS/utils/build-universal.sh HiCBricks_1.27.1.tar.gz /Library/Frameworks/R.framework/Resources/bin/R HiCBricks.buildbin-libdir StartedAt: 2025-10-02 23:06:47 -0400 (Thu, 02 Oct 2025) EndedAt: 2025-10-02 23:06:55 -0400 (Thu, 02 Oct 2025) EllapsedTime: 8.2 seconds RetCode: 0 Status: OK PackageFile: HiCBricks_1.27.1.tgz PackageFileSize: 9.098 MiB