Package: HiCBricks Version: 1.28.0 Command: /Library/Frameworks/R.framework/Resources/bin/R CMD INSTALL HiCBricks StartedAt: 2025-11-17 17:25:15 -0500 (Mon, 17 Nov 2025) EndedAt: 2025-11-17 17:25:21 -0500 (Mon, 17 Nov 2025) EllapsedTime: 6.4 seconds RetCode: 0 Status: OK