Package: HiCBricks Version: 1.28.0 Command: /Library/Frameworks/R.framework/Resources/bin/R CMD check --install=check:HiCBricks.install-out.txt --library=/Library/Frameworks/R.framework/Resources/library --no-vignettes --timings HiCBricks_1.28.0.tar.gz StartedAt: 2025-11-18 07:36:46 -0500 (Tue, 18 Nov 2025) EndedAt: 2025-11-18 07:38:01 -0500 (Tue, 18 Nov 2025) EllapsedTime: 74.6 seconds RetCode: 0 Status: OK CheckDir: HiCBricks.Rcheck Warnings: 0