Package: HiCBricks Version: 1.28.0 Command: rm -rf HiCBricks.buildbin-libdir && mkdir HiCBricks.buildbin-libdir && /Users/biocbuild/BBS/utils/build-universal.sh HiCBricks_1.28.0.tar.gz /Library/Frameworks/R.framework/Resources/bin/R HiCBricks.buildbin-libdir StartedAt: 2025-11-18 15:41:43 -0500 (Tue, 18 Nov 2025) EndedAt: 2025-11-18 15:41:52 -0500 (Tue, 18 Nov 2025) EllapsedTime: 9.1 seconds RetCode: 0 Status: OK PackageFile: HiCBricks_1.28.0.tgz PackageFileSize: 9.096 MiB