Package: Herper Version: 1.19.3 Command: /home/biocbuild/R/R/bin/R CMD check --install=check:Herper.install-out.txt --library=/home/biocbuild/R/R/site-library --no-vignettes --timings Herper_1.19.3.tar.gz StartedAt: 2025-10-17 10:02:34 -0000 (Fri, 17 Oct 2025) EndedAt: 2025-10-17 10:03:29 -0000 (Fri, 17 Oct 2025) EllapsedTime: 55.1 seconds RetCode: 0 Status: OK CheckDir: Herper.Rcheck Warnings: 0