Package: Herper Version: 1.19.3 Command: chmod a+r Herper -R && F:\biocbuild\bbs-3.22-bioc\R\bin\R.exe CMD build --keep-empty-dirs --no-resave-data Herper StartedAt: 2025-08-14 20:45:52 -0400 (Thu, 14 Aug 2025) EndedAt: 2025-08-14 20:46:16 -0400 (Thu, 14 Aug 2025) EllapsedTime: 23.9 seconds RetCode: 0 Status: OK PackageFile: Herper_1.19.3.tar.gz PackageFileSize: 408.7 KiB