Package: Herper Version: 1.19.3 Command: rm -rf Herper.buildbin-libdir && mkdir Herper.buildbin-libdir && F:\biocbuild\bbs-3.22-bioc\R\bin\R.exe CMD INSTALL --build --library=Herper.buildbin-libdir Herper_1.19.3.tar.gz StartedAt: 2025-08-15 10:27:44 -0400 (Fri, 15 Aug 2025) EndedAt: 2025-08-15 10:28:07 -0400 (Fri, 15 Aug 2025) EllapsedTime: 23.0 seconds RetCode: 0 Status: OK PackageFile: Herper_1.19.3.zip PackageFileSize: 469.1 KiB