Package: Herper Version: 1.19.3 Command: rm -rf Herper.buildbin-libdir && mkdir Herper.buildbin-libdir && /Users/biocbuild/BBS/utils/build-universal.sh Herper_1.19.3.tar.gz /Library/Frameworks/R.framework/Resources/bin/R Herper.buildbin-libdir StartedAt: 2025-10-23 01:36:51 -0400 (Thu, 23 Oct 2025) EndedAt: 2025-10-23 01:37:02 -0400 (Thu, 23 Oct 2025) EllapsedTime: 11.5 seconds RetCode: 0 Status: OK PackageFile: Herper_1.19.3.tgz PackageFileSize: 463.7 KiB