Package: Herper Version: 1.19.3 Command: /Library/Frameworks/R.framework/Resources/bin/R CMD INSTALL Herper StartedAt: 2025-10-22 15:06:34 -0400 (Wed, 22 Oct 2025) EndedAt: 2025-10-22 15:06:43 -0400 (Wed, 22 Oct 2025) EllapsedTime: 8.5 seconds RetCode: 0 Status: OK