Package: Herper Version: 1.19.3 Command: /Library/Frameworks/R.framework/Resources/bin/R CMD check --install=check:Herper.install-out.txt --library=/Library/Frameworks/R.framework/Resources/library --no-vignettes --timings Herper_1.19.3.tar.gz StartedAt: 2025-10-22 20:10:30 -0400 (Wed, 22 Oct 2025) EndedAt: 2025-10-22 20:10:51 -0400 (Wed, 22 Oct 2025) EllapsedTime: 21.3 seconds RetCode: 0 Status: OK CheckDir: Herper.Rcheck Warnings: 0