Package: Herper Version: 1.19.3 Command: /Library/Frameworks/R.framework/Resources/bin/R CMD build --keep-empty-dirs --no-resave-data Herper StartedAt: 2025-10-22 16:42:10 -0400 (Wed, 22 Oct 2025) EndedAt: 2025-10-22 16:42:14 -0400 (Wed, 22 Oct 2025) EllapsedTime: 4.0 seconds RetCode: 0 Status: OK PackageFile: Herper_1.19.3.tar.gz PackageFileSize: 408.6 KiB