Package: HelloRanges Version: 1.35.2 Command: /home/biocbuild/R/R/bin/R CMD INSTALL HelloRanges StartedAt: 2025-10-16 21:59:18 -0000 (Thu, 16 Oct 2025) EndedAt: 2025-10-16 22:00:09 -0000 (Thu, 16 Oct 2025) EllapsedTime: 51.4 seconds RetCode: 0 Status: OK