Package: HelloRanges Version: 1.35.2 Command: /home/biocbuild/R/R/bin/R CMD check --install=check:HelloRanges.install-out.txt --library=/home/biocbuild/R/R/site-library --no-vignettes --timings HelloRanges_1.35.2.tar.gz StartedAt: 2025-10-17 10:00:51 -0000 (Fri, 17 Oct 2025) EndedAt: 2025-10-17 10:07:28 -0000 (Fri, 17 Oct 2025) EllapsedTime: 397.4 seconds RetCode: 0 Status: OK CheckDir: HelloRanges.Rcheck Warnings: 0