Package: HelloRanges Version: 1.35.2 Command: /home/biocbuild/R/R/bin/R CMD build --keep-empty-dirs --no-resave-data HelloRanges StartedAt: 2025-10-17 01:51:54 -0000 (Fri, 17 Oct 2025) EndedAt: 2025-10-17 01:56:30 -0000 (Fri, 17 Oct 2025) EllapsedTime: 276.3 seconds RetCode: 0 Status: OK PackageFile: HelloRanges_1.35.2.tar.gz PackageFileSize: 944.2 KiB