Package: HelloRanges Version: 1.35.2 Command: /Library/Frameworks/R.framework/Resources/bin/R CMD INSTALL HelloRanges StartedAt: 2025-10-19 15:39:10 -0400 (Sun, 19 Oct 2025) EndedAt: 2025-10-19 15:40:09 -0400 (Sun, 19 Oct 2025) EllapsedTime: 58.7 seconds RetCode: 0 Status: OK