Package: HelloRanges Version: 1.35.2 Command: /Library/Frameworks/R.framework/Resources/bin/R CMD INSTALL HelloRanges StartedAt: 2025-10-19 15:20:55 -0400 (Sun, 19 Oct 2025) EndedAt: 2025-10-19 15:21:13 -0400 (Sun, 19 Oct 2025) EllapsedTime: 17.2 seconds RetCode: 0 Status: OK