Package: HelloRanges Version: 1.35.2 Command: /Library/Frameworks/R.framework/Resources/bin/R CMD check --install=check:HelloRanges.install-out.txt --library=/Library/Frameworks/R.framework/Resources/library --no-vignettes --timings HelloRanges_1.35.2.tar.gz StartedAt: 2025-10-19 20:06:03 -0400 (Sun, 19 Oct 2025) EndedAt: 2025-10-19 20:08:01 -0400 (Sun, 19 Oct 2025) EllapsedTime: 118.4 seconds RetCode: 0 Status: OK CheckDir: HelloRanges.Rcheck Warnings: 0