Package: HelloRanges Version: 1.35.2 Maintainer: Michael Lawrence MaintainerEmail: lawremi at gmail.com git_url: https://git.bioconductor.org/packages/HelloRanges git_branch: devel git_last_commit: d061967 git_last_commit_date: 2025-07-31 12:17:42 -0400 (Thu, 31 Jul 2025)