Package: Heatplus Version: 3.17.0 Command: /home/biocbuild/R/R/bin/R CMD check --install=check:Heatplus.install-out.txt --library=/home/biocbuild/R/R/site-library --no-vignettes --timings Heatplus_3.17.0.tar.gz StartedAt: 2025-10-14 09:08:44 -0000 (Tue, 14 Oct 2025) EndedAt: 2025-10-14 09:11:00 -0000 (Tue, 14 Oct 2025) EllapsedTime: 136.1 seconds RetCode: 0 Status: OK CheckDir: Heatplus.Rcheck Warnings: 0