Package: Heatplus Version: 3.17.0 Command: /home/biocbuild/R/R/bin/R CMD build --keep-empty-dirs --no-resave-data Heatplus StartedAt: 2025-10-14 00:55:41 -0000 (Tue, 14 Oct 2025) EndedAt: 2025-10-14 00:55:59 -0000 (Tue, 14 Oct 2025) EllapsedTime: 18.0 seconds RetCode: 0 Status: OK PackageFile: Heatplus_3.17.0.tar.gz PackageFileSize: 1.164 MiB