Package: Heatplus Version: 3.17.0 Command: rm -rf Heatplus.buildbin-libdir && mkdir Heatplus.buildbin-libdir && F:\biocbuild\bbs-3.22-bioc\R\bin\R.exe CMD INSTALL --build --library=Heatplus.buildbin-libdir Heatplus_3.17.0.tar.gz StartedAt: 2025-08-15 10:27:25 -0400 (Fri, 15 Aug 2025) EndedAt: 2025-08-15 10:27:38 -0400 (Fri, 15 Aug 2025) EllapsedTime: 13.3 seconds RetCode: 0 Status: OK PackageFile: Heatplus_3.17.0.zip PackageFileSize: 950.1 KiB