Package: Heatplus Version: 3.17.0 Command: /home/biocbuild/bbs-3.22-bioc/R/bin/R CMD INSTALL Heatplus StartedAt: 2025-10-15 15:04:15 -0400 (Wed, 15 Oct 2025) EndedAt: 2025-10-15 15:04:25 -0400 (Wed, 15 Oct 2025) EllapsedTime: 9.2 seconds RetCode: 0 Status: OK