Package: Heatplus Version: 3.17.0 Command: /home/biocbuild/bbs-3.22-bioc/R/bin/R CMD build --keep-empty-dirs --no-resave-data --md5 Heatplus StartedAt: 2025-10-15 18:11:30 -0400 (Wed, 15 Oct 2025) EndedAt: 2025-10-15 18:11:44 -0400 (Wed, 15 Oct 2025) EllapsedTime: 14.1 seconds RetCode: 0 Status: OK PackageFile: Heatplus_3.17.0.tar.gz PackageFileSize: 1.18 MiB