Package: Heatplus Version: 3.17.0 Command: /Library/Frameworks/R.framework/Resources/bin/R CMD INSTALL Heatplus StartedAt: 2025-10-16 15:33:36 -0400 (Thu, 16 Oct 2025) EndedAt: 2025-10-16 15:34:13 -0400 (Thu, 16 Oct 2025) EllapsedTime: 37.0 seconds RetCode: 0 Status: OK