Package: Heatplus Version: 3.17.0 Command: /Library/Frameworks/R.framework/Resources/bin/R CMD check --install=check:Heatplus.install-out.txt --library=/Library/Frameworks/R.framework/Resources/library --no-vignettes --timings Heatplus_3.17.0.tar.gz StartedAt: 2025-10-16 23:46:18 -0400 (Thu, 16 Oct 2025) EndedAt: 2025-10-16 23:46:52 -0400 (Thu, 16 Oct 2025) EllapsedTime: 33.5 seconds RetCode: 0 Status: OK CheckDir: Heatplus.Rcheck Warnings: 0