Package: Heatplus Version: 3.18.0 Command: rm -rf Heatplus.buildbin-libdir && mkdir Heatplus.buildbin-libdir && /Users/biocbuild/BBS/utils/build-universal.sh Heatplus_3.18.0.tar.gz /Library/Frameworks/R.framework/Resources/bin/R Heatplus.buildbin-libdir StartedAt: 2025-11-10 23:22:58 -0500 (Mon, 10 Nov 2025) EndedAt: 2025-11-10 23:23:00 -0500 (Mon, 10 Nov 2025) EllapsedTime: 2.1 seconds RetCode: 0 Status: OK PackageFile: Heatplus_3.18.0.tgz PackageFileSize: 1.267 MiB